BEGIN:VCALENDAR
VERSION:2.0
PRODID:-//Bē Dashboard - ECPv6.15.17.1//NONSGML v1.0//EN
CALSCALE:GREGORIAN
METHOD:PUBLISH
X-ORIGINAL-URL:https://behealth-app.com
X-WR-CALDESC:Events for Bē Dashboard
REFRESH-INTERVAL;VALUE=DURATION:PT1H
X-Robots-Tag:noindex
X-PUBLISHED-TTL:PT1H
BEGIN:VTIMEZONE
TZID:America/New_York
BEGIN:DAYLIGHT
TZOFFSETFROM:-0500
TZOFFSETTO:-0400
TZNAME:EDT
DTSTART:20210314T070000
END:DAYLIGHT
BEGIN:STANDARD
TZOFFSETFROM:-0400
TZOFFSETTO:-0500
TZNAME:EST
DTSTART:20211107T060000
END:STANDARD
BEGIN:DAYLIGHT
TZOFFSETFROM:-0500
TZOFFSETTO:-0400
TZNAME:EDT
DTSTART:20220313T070000
END:DAYLIGHT
BEGIN:STANDARD
TZOFFSETFROM:-0400
TZOFFSETTO:-0500
TZNAME:EST
DTSTART:20221106T060000
END:STANDARD
BEGIN:DAYLIGHT
TZOFFSETFROM:-0500
TZOFFSETTO:-0400
TZNAME:EDT
DTSTART:20230312T070000
END:DAYLIGHT
BEGIN:STANDARD
TZOFFSETFROM:-0400
TZOFFSETTO:-0500
TZNAME:EST
DTSTART:20231105T060000
END:STANDARD
BEGIN:DAYLIGHT
TZOFFSETFROM:-0500
TZOFFSETTO:-0400
TZNAME:EDT
DTSTART:20240310T070000
END:DAYLIGHT
BEGIN:STANDARD
TZOFFSETFROM:-0400
TZOFFSETTO:-0500
TZNAME:EST
DTSTART:20241103T060000
END:STANDARD
END:VTIMEZONE
BEGIN:VEVENT
DTSTART;TZID=America/New_York:20230307T090000
DTEND;TZID=America/New_York:20230307T094500
DTSTAMP:20260420T023551
CREATED:20221230T170226Z
LAST-MODIFIED:20230105T135545Z
UID:10000284-1678179600-1678182300@behealth-app.com
SUMMARY:Bē Health Walking Club
DESCRIPTION:You’ll meet the Bē Health navigator for a group activity on the St. Joseph’s/Candler walking trail.  The Bē Health Navigator will incorporate stretching and other exercises into the walk to enhance your overall physical\, emotional and social well-being.
URL:https://behealth-app.com/event/be-health-walking-club-2023-03-07-2/
LOCATION:The Outfitters\, 35 Outfitters Park Drive\, Richmond Hill\, GA\, 31324\, United States
ATTACH;FMTTYPE=image/jpeg:https://behealth-app.com/wp-content/uploads/2022/08/PXL_20220804_150652961.MP_-scaled.jpg
END:VEVENT
BEGIN:VEVENT
DTSTART;TZID=America/New_York:20230228T090000
DTEND;TZID=America/New_York:20230228T094500
DTSTAMP:20260420T023551
CREATED:20221230T170226Z
LAST-MODIFIED:20230105T134241Z
UID:10000281-1677574800-1677577500@behealth-app.com
SUMMARY:Bē Health Walking Club
DESCRIPTION:You’ll meet the Bē Health navigator for a group activity on the St. Joseph’s/Candler walking trail.  The Bē Health Navigator will incorporate stretching and other exercises into the walk to enhance your overall physical\, emotional and social well-being.
URL:https://behealth-app.com/event/be-health-walking-club-2023-02-28-2/
LOCATION:The Outfitters\, 35 Outfitters Park Drive\, Richmond Hill\, GA\, 31324\, United States
ATTACH;FMTTYPE=image/jpeg:https://behealth-app.com/wp-content/uploads/2022/08/PXL_20220804_150652961.MP_-scaled.jpg
END:VEVENT
BEGIN:VEVENT
DTSTART;TZID=America/New_York:20230223T163000
DTEND;TZID=America/New_York:20230223T173000
DTSTAMP:20260420T023551
CREATED:20221227T185346Z
LAST-MODIFIED:20231013T213850Z
UID:10000274-1677169800-1677173400@behealth-app.com
SUMMARY:Trail Walk
DESCRIPTION:You’ll meet the Bē Health navigator for a group activity on the St. Joseph’s/Candler Walking Trail. The Bē Health Navigator will incorporate stretching and other\nexercises into the walk to enhance your overall physical\, emotional and social well-being.
URL:https://behealth-app.com/event/trail-walk-2023-02-23/
LOCATION:The Outfitters\, 35 Outfitters Park Drive\, Richmond Hill\, GA\, 31324\, United States
ATTACH;FMTTYPE=image/jpeg:https://behealth-app.com/wp-content/uploads/2022/08/PXL_20220804_150652961.MP_-scaled.jpg
END:VEVENT
BEGIN:VEVENT
DTSTART;TZID=America/New_York:20230222T083000
DTEND;TZID=America/New_York:20230222T160000
DTSTAMP:20260420T023551
CREATED:20230119T133708Z
LAST-MODIFIED:20230124T172732Z
UID:10000298-1677054600-1677081600@behealth-app.com
SUMMARY:Bē Health Holiday Camp FUN
DESCRIPTION:Bē Health is offering a very unique\, fun\, and engaging holiday camp experience. The aim of our daily activities is to help children\, ages 5-12\, gain a better understanding of health and wellbeing through group Fitness\, Mindfulness and Nutrition FUN. Children will participate in Kid’s Yoga\, Mindfulness Activities & Trail walks\, Kid’s POUND\, and other holiday themed activities\, including a nutritional activity & snack. The camps will be staffed by Dieticians\, certified fitness trainers and Health Educators. \nPlease check your email after registration for a link to important paperwork that must be filled out to complete registration. 
URL:https://behealth-app.com/event/heartwood-holiday-camp-fun-5-2023-02-22/
LOCATION:The Outfitters\, 35 Outfitters Park Drive\, Richmond Hill\, GA\, 31324\, United States
CATEGORIES:Camps
ATTACH;FMTTYPE=image/jpeg:https://behealth-app.com/wp-content/uploads/2023/01/KidsRunning-scaled.jpg
END:VEVENT
BEGIN:VEVENT
DTSTART;TZID=America/New_York:20230221T083000
DTEND;TZID=America/New_York:20230221T160000
DTSTAMP:20260420T023551
CREATED:20230119T133708Z
LAST-MODIFIED:20230124T172701Z
UID:10000297-1676968200-1676995200@behealth-app.com
SUMMARY:Bē Health Holiday Camp FUN
DESCRIPTION:Bē Health is offering a very unique\, fun\, and engaging holiday camp experience. The aim of our daily activities is to help children\, ages 5-12\, gain a better understanding of health and wellbeing through group Fitness\, Mindfulness and Nutrition FUN. Children will participate in Kid’s Yoga\, Mindfulness Activities & Trail walks\, Kid’s POUND\, and other holiday themed activities\, including a nutritional activity & snack. The camps will be staffed by Dieticians\, certified fitness trainers and Health Educators. \nPlease check your email after registration for a link to important paperwork that must be filled out to complete registration. 
URL:https://behealth-app.com/event/heartwood-holiday-camp-fun-5-2023-02-21/
LOCATION:The Outfitters\, 35 Outfitters Park Drive\, Richmond Hill\, GA\, 31324\, United States
CATEGORIES:Camps
ATTACH;FMTTYPE=image/jpeg:https://behealth-app.com/wp-content/uploads/2023/01/KidsRunning-scaled.jpg
END:VEVENT
BEGIN:VEVENT
DTSTART;TZID=America/New_York:20230220T083000
DTEND;TZID=America/New_York:20230220T160000
DTSTAMP:20260420T023551
CREATED:20230119T133706Z
LAST-MODIFIED:20230124T172807Z
UID:10000295-1676881800-1676908800@behealth-app.com
SUMMARY:Bē Health Holiday Camp FUN
DESCRIPTION:Bē Health is offering a very unique\, fun\, and engaging holiday camp experience. The aim of our daily activities is to help children\, ages 5-12\, gain a better understanding of health and wellbeing through group Fitness\, Mindfulness and Nutrition FUN. Children will participate in Kid’s Yoga\, Mindfulness Activities & Trail walks\, Kid’s POUND\, and other holiday themed activities\, including a nutritional activity & snack. The camps will be staffed by Dieticians\, certified fitness trainers and Health Educators. \nPlease check your email after registration for a link to important paperwork that must be filled out to complete registration. 
URL:https://behealth-app.com/event/heartwood-holiday-camp-fun-5/
LOCATION:The Outfitters\, 35 Outfitters Park Drive\, Richmond Hill\, GA\, 31324\, United States
CATEGORIES:Camps
ATTACH;FMTTYPE=image/jpeg:https://behealth-app.com/wp-content/uploads/2023/01/KidsRunning-scaled.jpg
END:VEVENT
BEGIN:VEVENT
DTSTART;TZID=America/New_York:20230217T080000
DTEND;TZID=America/New_York:20230217T090000
DTSTAMP:20260420T023551
CREATED:20221206T154636Z
LAST-MODIFIED:20230105T133132Z
UID:10000269-1676620800-1676624400@behealth-app.com
SUMMARY:Bē Health Mindful Meditation Walk
DESCRIPTION:You’ll meet the Bē Health navigator for a group activity on the St. Joseph’s/Candler walking trail for a guided meditation. Focusing and engaging will allow you to become aware of your surroundings and how your body and mind feel while moving throughout this peaceful trail systems.
URL:https://behealth-app.com/event/be-health-mindful-meditation-walk-2023-02-17/
LOCATION:The Outfitters\, 35 Outfitters Park Drive\, Richmond Hill\, GA\, 31324\, United States
CATEGORIES:Fitness
ATTACH;FMTTYPE=image/jpeg:https://behealth-app.com/wp-content/uploads/2022/04/jake-melara-Yh6K2eTr_FY-unsplash-scaled.jpg
END:VEVENT
BEGIN:VEVENT
DTSTART;TZID=America/New_York:20230216T163000
DTEND;TZID=America/New_York:20230216T173000
DTSTAMP:20260420T023551
CREATED:20221227T185346Z
LAST-MODIFIED:20231013T234754Z
UID:10000273-1676565000-1676568600@behealth-app.com
SUMMARY:Trail Walk
DESCRIPTION:You’ll meet the Bē Health navigator for a group activity on the St. Joseph’s/Candler Walking Trail. The Bē Health Navigator will incorporate stretching and other\nexercises into the walk to enhance your overall physical\, emotional and social well-being.
URL:https://behealth-app.com/event/trail-walk-2023-02-16/
LOCATION:The Outfitters\, 35 Outfitters Park Drive\, Richmond Hill\, GA\, 31324\, United States
ATTACH;FMTTYPE=image/jpeg:https://behealth-app.com/wp-content/uploads/2022/08/PXL_20220804_150652961.MP_-scaled.jpg
END:VEVENT
BEGIN:VEVENT
DTSTART;TZID=America/New_York:20230214T090000
DTEND;TZID=America/New_York:20230214T094500
DTSTAMP:20260420T023551
CREATED:20221230T170226Z
LAST-MODIFIED:20230105T131936Z
UID:10000279-1676365200-1676367900@behealth-app.com
SUMMARY:Bē Health Walking Club
DESCRIPTION:You’ll meet the Bē Health navigator for a group activity on the St. Joseph’s/Candler walking trail.  The Bē Health Navigator will incorporate stretching and other exercises into the walk to enhance your overall physical\, emotional and social well-being.
URL:https://behealth-app.com/event/be-health-walking-club-2023-02-14-2/
LOCATION:The Outfitters\, 35 Outfitters Park Drive\, Richmond Hill\, GA\, 31324\, United States
ATTACH;FMTTYPE=image/jpeg:https://behealth-app.com/wp-content/uploads/2022/08/PXL_20220804_150652961.MP_-scaled.jpg
END:VEVENT
BEGIN:VEVENT
DTSTART;TZID=America/New_York:20230203T080000
DTEND;TZID=America/New_York:20230203T090000
DTSTAMP:20260420T023551
CREATED:20221206T154636Z
LAST-MODIFIED:20230105T130713Z
UID:10000268-1675411200-1675414800@behealth-app.com
SUMMARY:Bē Health Mindful Meditation Walk
DESCRIPTION:You’ll meet the Bē Health navigator for a group activity on the St. Joseph’s/Candler walking trail for a guided meditation. Focusing and engaging will allow you to become aware of your surroundings and how your body and mind feel while moving throughout this peaceful trail systems.
URL:https://behealth-app.com/event/be-health-mindful-meditation-walk-2023-02-03/
LOCATION:The Outfitters\, 35 Outfitters Park Drive\, Richmond Hill\, GA\, 31324\, United States
CATEGORIES:Fitness
ATTACH;FMTTYPE=image/jpeg:https://behealth-app.com/wp-content/uploads/2022/04/jake-melara-Yh6K2eTr_FY-unsplash-scaled.jpg
END:VEVENT
BEGIN:VEVENT
DTSTART;TZID=America/New_York:20230202T173000
DTEND;TZID=America/New_York:20230202T183000
DTSTAMP:20260420T023551
CREATED:20230113T194951Z
LAST-MODIFIED:20230119T141725Z
UID:10000291-1675359000-1675362600@behealth-app.com
SUMMARY:It's time for a heart to heart!
DESCRIPTION:Do your part to take care of your heart.  There are many heart healthy habits to sustain your mind\, body and spirit.   Learn how to manage and balance diet physical activity and stress to take care of your heart!
URL:https://behealth-app.com/event/its-time-for-a-heart-to-heart/
LOCATION:The Outfitters\, 35 Outfitters Park Drive\, Richmond Hill\, GA\, 31324\, United States
CATEGORIES:Family Health,Fitness,Heart Health,Heartwood Events,Nutrition
ATTACH;FMTTYPE=image/jpeg:https://behealth-app.com/wp-content/uploads/2023/01/HeartInHands.jpg
END:VEVENT
BEGIN:VEVENT
DTSTART;TZID=America/New_York:20230127T080000
DTEND;TZID=America/New_York:20230127T090000
DTSTAMP:20260420T023551
CREATED:20221206T154636Z
LAST-MODIFIED:20230105T175623Z
UID:10000267-1674806400-1674810000@behealth-app.com
SUMMARY:Bē Health Mindful Meditation Walk
DESCRIPTION:You’ll meet the Bē Health navigator for a group activity on the St. Joseph’s/Candler walking trail for a guided meditation. Focusing and engaging will allow you to become aware of your surroundings and how your body and mind feel while moving throughout this peaceful trail systems.
URL:https://behealth-app.com/event/be-health-mindful-meditation-walk-2023-01-27/
LOCATION:The Outfitters\, 35 Outfitters Park Drive\, Richmond Hill\, GA\, 31324\, United States
CATEGORIES:Fitness
ATTACH;FMTTYPE=image/jpeg:https://behealth-app.com/wp-content/uploads/2022/04/jake-melara-Yh6K2eTr_FY-unsplash-scaled.jpg
END:VEVENT
BEGIN:VEVENT
DTSTART;TZID=America/New_York:20230120T080000
DTEND;TZID=America/New_York:20230120T090000
DTSTAMP:20260420T023551
CREATED:20221206T154636Z
LAST-MODIFIED:20230105T175413Z
UID:10000266-1674201600-1674205200@behealth-app.com
SUMMARY:Bē Health Mindful Meditation Walk
DESCRIPTION:You’ll meet the Bē Health navigator for a group activity on the St. Joseph’s/Candler walking trail for a guided meditation. Focusing and engaging will allow you to become aware of your surroundings and how your body and mind feel while moving throughout this peaceful trail systems.
URL:https://behealth-app.com/event/be-health-mindful-meditation-walk-2023-01-20/
LOCATION:The Outfitters\, 35 Outfitters Park Drive\, Richmond Hill\, GA\, 31324\, United States
CATEGORIES:Fitness
ATTACH;FMTTYPE=image/jpeg:https://behealth-app.com/wp-content/uploads/2022/04/jake-melara-Yh6K2eTr_FY-unsplash-scaled.jpg
END:VEVENT
BEGIN:VEVENT
DTSTART;TZID=America/New_York:20221228T083000
DTEND;TZID=America/New_York:20221228T160000
DTSTAMP:20260420T023551
CREATED:20221206T152515Z
LAST-MODIFIED:20221227T152957Z
UID:10000265-1672216200-1672243200@behealth-app.com
SUMMARY:Heartwood Holiday Camp FUN
DESCRIPTION:Bē Health is offering a very unique\, fun\, and engaging holiday camp experience. The aim of our daily activities is to help children\, ages 5-12\, gain a better understanding of health and wellbeing through group Fitness\, Mindfulness and Nutrition FUN. Children will participate in Kid’s Yoga\, Mindfulness Activities & Trail walks\, Kid’s POUND\, and other holiday themed activities\, including a nutritional activity & snack. The camps will be staffed by Dieticians\, certified fitness trainers and Health Educators. \nPlease check your email after registration for a link to important paperwork that must be filled out to complete registration.  \n 
URL:https://behealth-app.com/event/heartwood-holiday-camp-fun-4/
LOCATION:The Outfitters\, 35 Outfitters Park Drive\, Richmond Hill\, GA\, 31324\, United States
CATEGORIES:Camps,Family Health,Fitness
ATTACH;FMTTYPE=image/jpeg:https://behealth-app.com/wp-content/uploads/2022/11/camps-stock-scaled.jpg
END:VEVENT
BEGIN:VEVENT
DTSTART;TZID=America/New_York:20221221T083000
DTEND;TZID=America/New_York:20221221T160000
DTSTAMP:20260420T023551
CREATED:20221130T184724Z
LAST-MODIFIED:20221215T131507Z
UID:10000264-1671611400-1671638400@behealth-app.com
SUMMARY:Heartwood Holiday Camp FUN
DESCRIPTION:Bē Health is offering a very unique\, fun\, and engaging holiday camp experience. The aim of our daily activities is to help children\, ages 5-12\, gain a better understanding of health and wellbeing through group Fitness\, Mindfulness and Nutrition FUN. Children will participate in Kid’s Yoga\, Mindfulness Activities & Trail walks\, Kid’s POUND\, and other holiday themed activities\, including a nutritional activity & snack. The camps will be staffed by Dieticians\, certified fitness trainers and Health Educators. \nPlease check your email after registration for a link to important paperwork that must be filled out to complete registration.  \n 
URL:https://behealth-app.com/event/heartwood-holiday-camp-fun-2022-12-21/
LOCATION:The Outfitters\, 35 Outfitters Park Drive\, Richmond Hill\, GA\, 31324\, United States
CATEGORIES:Camps,Family Health,Fitness
ATTACH;FMTTYPE=image/jpeg:https://behealth-app.com/wp-content/uploads/2022/11/camps-stock-scaled.jpg
END:VEVENT
BEGIN:VEVENT
DTSTART;TZID=America/New_York:20221220T083000
DTEND;TZID=America/New_York:20221220T160000
DTSTAMP:20260420T023551
CREATED:20221130T184724Z
LAST-MODIFIED:20221215T131431Z
UID:10000263-1671525000-1671552000@behealth-app.com
SUMMARY:Heartwood Holiday Camp FUN
DESCRIPTION:Bē Health is offering a very unique\, fun\, and engaging holiday camp experience. The aim of our daily activities is to help children\, ages 5-12\, gain a better understanding of health and wellbeing through group Fitness\, Mindfulness and Nutrition FUN. Children will participate in Kid’s Yoga\, Mindfulness Activities & Trail walks\, Kid’s POUND\, and other holiday themed activities\, including a nutritional activity & snack. The camps will be staffed by Dieticians\, certified fitness trainers and Health Educators. \nPlease check your email after registration for a link to important paperwork that must be filled out to complete registration. 
URL:https://behealth-app.com/event/heartwood-holiday-camp-fun-2022-12-20/
LOCATION:The Outfitters\, 35 Outfitters Park Drive\, Richmond Hill\, GA\, 31324\, United States
CATEGORIES:Camps,Family Health,Fitness
ATTACH;FMTTYPE=image/jpeg:https://behealth-app.com/wp-content/uploads/2022/11/camps-stock-scaled.jpg
END:VEVENT
BEGIN:VEVENT
DTSTART;TZID=America/New_York:20221219T083000
DTEND;TZID=America/New_York:20221219T160000
DTSTAMP:20260420T023551
CREATED:20221130T184724Z
LAST-MODIFIED:20231013T202750Z
UID:10000262-1671438600-1671465600@behealth-app.com
SUMMARY:Heartwood Holiday Camp FUN
DESCRIPTION:Bē Health is offering a very unique\, fun\, and engaging holiday camp experience. The aim of our daily activities is to help children\, ages 5-12\, gain a better understanding of health and wellbeing through group Fitness\, Mindfulness and Nutrition FUN. Children will participate in Kid’s Yoga\, Mindfulness Activities & Trail walks\, Kid’s POUND\, and other holiday themed activities\, including a nutritional activity & snack. The camps will be staffed by Dieticians\, certified fitness trainers and Health Educators. \nPlease check your email after registration for a link to important paperwork that must be filled out to complete registration. 
URL:https://behealth-app.com/event/heartwood-holiday-camp-fun/
LOCATION:The Outfitters\, 35 Outfitters Park Drive\, Richmond Hill\, GA\, 31324\, United States
CATEGORIES:Camps,Family Health,Fitness
ATTACH;FMTTYPE=image/jpeg:https://behealth-app.com/wp-content/uploads/2022/11/camps-stock-scaled.jpg
END:VEVENT
BEGIN:VEVENT
DTSTART;TZID=America/New_York:20221201T090000
DTEND;TZID=America/New_York:20221202T093000
DTSTAMP:20260420T023551
CREATED:20221024T184043Z
LAST-MODIFIED:20231013T212843Z
UID:10000258-1669885200-1669973400@behealth-app.com
SUMMARY:Bē Health Walking Club
DESCRIPTION:You’ll meet the Bē Health navigator for a group activity on the St. Joseph’s/Candler walking trail.  The Bē Health Navigator will incorporate stretching and other exercises into the walk to enhance your overall physical\, emotional and social well-being.
URL:https://behealth-app.com/event/be-health-walking-club-4-2022-12-28/
LOCATION:The Outfitters\, 35 Outfitters Park Drive\, Richmond Hill\, GA\, 31324\, United States
END:VEVENT
BEGIN:VEVENT
DTSTART;TZID=America/New_York:20221112T134500
DTEND;TZID=America/New_York:20221112T141500
DTSTAMP:20260420T023551
CREATED:20221109T170717Z
LAST-MODIFIED:20231013T212637Z
UID:10000261-1668260700-1668262500@behealth-app.com
SUMMARY:Adult Yoga
DESCRIPTION:Together with our new residents\, we are celebrating Fall on the newly-completed Grand Lawn with football games on the tv’s\, a food truck\, beer tasting (apple cider for the kids)\, cornhole tournaments\, a scavenger hunt\, face painting\, yoga classes with BE Health\, and best of all\, our new playground is open for play! Model homes will be open for touring\, so grab your friends and come see what living the Heartwood Lifestyle is all about. \nPlease register to participate in our Adult Yoga  demonstration  from 1:45-2:15pm in The Outfitters building at Heartwood. \nWhen: Saturday\, November 12 • 12-3pm\nWhere: 35 Outfitters Park Drive\, Richmond Hill\, GA 31324\nClasses: Adult Yoga 1:45-2:15PM
URL:https://behealth-app.com/event/2740/
LOCATION:The Outfitters\, 35 Outfitters Park Drive\, Richmond Hill\, GA\, 31324\, United States
CATEGORIES:Family Health,Fitness,Heartwood Events
ATTACH;FMTTYPE=image/jpeg:https://behealth-app.com/wp-content/uploads/2022/08/core-scaled.jpg
END:VEVENT
BEGIN:VEVENT
DTSTART;TZID=America/New_York:20221112T130000
DTEND;TZID=America/New_York:20221112T133000
DTSTAMP:20260420T023551
CREATED:20221109T170318Z
LAST-MODIFIED:20231013T212519Z
UID:10000260-1668258000-1668259800@behealth-app.com
SUMMARY:Kid's Yoga Story Time
DESCRIPTION:Together with our new residents\, we are celebrating Fall on the newly-completed Grand Lawn with football games on the tv’s\, a food truck\, beer tasting (apple cider for the kids)\, cornhole tournaments\, a scavenger hunt\, face painting\, yoga classes with BE Health\, and best of all\, our new playground is open for play! Model homes will be open for touring\, so grab your friends and come see what living the Heartwood Lifestyle is all about. \nPlease register to participate in our Kid’s Yoga Story Time demonstration  from 1-1:30 in The Outfitters building at Heartwood. \nWhen: Saturday\, November 12 • 12-3pm\nWhere: 35 Outfitters Park Drive\, Richmond Hill\, GA 31324\nClasses: Kid’s Yoga 1-1:30pm
URL:https://behealth-app.com/event/kids-yoga-story-time/
LOCATION:The Outfitters\, 35 Outfitters Park Drive\, Richmond Hill\, GA\, 31324\, United States
CATEGORIES:Family Health,Fitness
ATTACH;FMTTYPE=image/jpeg:https://behealth-app.com/wp-content/uploads/2022/11/kid-yoga.jpg
END:VEVENT
BEGIN:VEVENT
DTSTART;TZID=America/New_York:20221112T120000
DTEND;TZID=America/New_York:20221112T150000
DTSTAMP:20260420T023551
CREATED:20221025T152521Z
LAST-MODIFIED:20231013T212421Z
UID:10000259-1668254400-1668265200@behealth-app.com
SUMMARY:Heartwood Harvest Happening
DESCRIPTION:Together with our new residents\, we are celebrating Fall on the newly-completed Grand Lawn with football games on the tv’s\, a food truck\, beer tasting (apple cider for the kids)\, cornhole tournaments\, a scavenger hunt\, face painting\, yoga classes with BE Health\, and best of all\, our new playground is open for play! Model homes will be open for touring\, so grab your friends and come see what living the Heartwood Lifestyle is all about. \nPlease register to attend either Yoga demonstrations. \nWhen: Saturday\, November 12 • 12-3pm\nWhere: 35 Outfitters Park Drive\, Richmond Hill\, GA 31324\nClasses: Kid’s Yoga 1-1:30pm + Adult’s Yoga 1:45-2:15pm (on the Grand Lawn)
URL:https://behealth-app.com/event/heartwood-harvest-happening/
LOCATION:The Outfitters\, 35 Outfitters Park Drive\, Richmond Hill\, GA\, 31324\, United States
CATEGORIES:Family Health,Fitness,Heartwood Events,Wellness
ATTACH;FMTTYPE=image/jpeg:https://behealth-app.com/wp-content/uploads/2022/10/Fall-Harvest-11.2022.jpg
END:VEVENT
END:VCALENDAR