BEGIN:VCALENDAR
VERSION:2.0
PRODID:-//Bē Dashboard - ECPv6.15.17.1//NONSGML v1.0//EN
CALSCALE:GREGORIAN
METHOD:PUBLISH
X-WR-CALNAME:Bē Dashboard
X-ORIGINAL-URL:https://behealth-app.com
X-WR-CALDESC:Events for Bē Dashboard
REFRESH-INTERVAL;VALUE=DURATION:PT1H
X-Robots-Tag:noindex
X-PUBLISHED-TTL:PT1H
BEGIN:VTIMEZONE
TZID:America/New_York
BEGIN:DAYLIGHT
TZOFFSETFROM:-0500
TZOFFSETTO:-0400
TZNAME:EDT
DTSTART:20220313T070000
END:DAYLIGHT
BEGIN:STANDARD
TZOFFSETFROM:-0400
TZOFFSETTO:-0500
TZNAME:EST
DTSTART:20221106T060000
END:STANDARD
BEGIN:DAYLIGHT
TZOFFSETFROM:-0500
TZOFFSETTO:-0400
TZNAME:EDT
DTSTART:20230312T070000
END:DAYLIGHT
BEGIN:STANDARD
TZOFFSETFROM:-0400
TZOFFSETTO:-0500
TZNAME:EST
DTSTART:20231105T060000
END:STANDARD
BEGIN:DAYLIGHT
TZOFFSETFROM:-0500
TZOFFSETTO:-0400
TZNAME:EDT
DTSTART:20240310T070000
END:DAYLIGHT
BEGIN:STANDARD
TZOFFSETFROM:-0400
TZOFFSETTO:-0500
TZNAME:EST
DTSTART:20241103T060000
END:STANDARD
END:VTIMEZONE
BEGIN:VEVENT
DTSTART;TZID=America/New_York:20230406T173000
DTEND;TZID=America/New_York:20230406T183000
DTSTAMP:20260423T032905
CREATED:20230119T123547Z
LAST-MODIFIED:20230302T185807Z
UID:10000293-1680802200-1680805800@behealth-app.com
SUMMARY:Bē Health Seminar: Losing Weight with MyPlate
DESCRIPTION:Learn about this simple and sustainable approach designed to help you learn how to eat a healthy diet\, live an active lifestyle and maintain or gradually move in the direction of a healthy weight\, reducing the risk of weight-related diseases. Presented by Julia Babos\, RDN\, LD
URL:https://behealth-app.com/event/losing-weight-with-myplate/
CATEGORIES:Family Health,Fitness,Heartwood Events,Nutrition,Wellness
ATTACH;FMTTYPE=image/jpeg:https://behealth-app.com/wp-content/uploads/2023/01/myplate.jpg
END:VEVENT
END:VCALENDAR