BEGIN:VCALENDAR
VERSION:2.0
PRODID:-//Bē Dashboard - ECPv6.15.17.1//NONSGML v1.0//EN
CALSCALE:GREGORIAN
METHOD:PUBLISH
X-ORIGINAL-URL:https://behealth-app.com
X-WR-CALDESC:Events for Bē Dashboard
REFRESH-INTERVAL;VALUE=DURATION:PT1H
X-Robots-Tag:noindex
X-PUBLISHED-TTL:PT1H
BEGIN:VTIMEZONE
TZID:America/New_York
BEGIN:DAYLIGHT
TZOFFSETFROM:-0500
TZOFFSETTO:-0400
TZNAME:EDT
DTSTART:20230312T070000
END:DAYLIGHT
BEGIN:STANDARD
TZOFFSETFROM:-0400
TZOFFSETTO:-0500
TZNAME:EST
DTSTART:20231105T060000
END:STANDARD
BEGIN:DAYLIGHT
TZOFFSETFROM:-0500
TZOFFSETTO:-0400
TZNAME:EDT
DTSTART:20240310T070000
END:DAYLIGHT
BEGIN:STANDARD
TZOFFSETFROM:-0400
TZOFFSETTO:-0500
TZNAME:EST
DTSTART:20241103T060000
END:STANDARD
BEGIN:DAYLIGHT
TZOFFSETFROM:-0500
TZOFFSETTO:-0400
TZNAME:EDT
DTSTART:20250309T070000
END:DAYLIGHT
BEGIN:STANDARD
TZOFFSETFROM:-0400
TZOFFSETTO:-0500
TZNAME:EST
DTSTART:20251102T060000
END:STANDARD
END:VTIMEZONE
BEGIN:VEVENT
DTSTART;TZID=America/New_York:20240501T100000
DTEND;TZID=America/New_York:20240501T110000
DTSTAMP:20260420T165657
CREATED:20240423T181935Z
LAST-MODIFIED:20240423T181935Z
UID:10000380-1714557600-1714561200@behealth-app.com
SUMMARY:Power Yoga
DESCRIPTION:Power Yoga class with Brooke blends the traditions of Hatha and Vinyasa into a dynamic fusion of strength\, endurance\, and mindful movement.  Experience the essence of Power Yoga as you move through a series of holding poses to build both physical strength and mental resilience\, while also seamlessly linking breath to movement to cultivate a sense of flow and presence on the mat. Through our dynamic sequences\, you’ll also engage in cardio conditioning that elevates your heart rate\, boosts your metabolism\, and leaves you feeling energized and revitalized. Whether you’re a seasoned yogi or new to the practice\, this class is designed to challenge and inspire you. Join us on the mat and embark on a journey to strength\, balance\, and mindfulness. \nGet a discount! Buy a bundle of Be Health and Well-Being classes! For Heartwood residents\, we offer five classes for $60 and 10 classes for $100. For community members\, five classes for $75 and 10 classes for $130. Please contact the Be Health navigator at behealth@sjchs.org or 912-675-0524. \n 
URL:https://behealth-app.com/event/power-yoga/
LOCATION:SJ/C Bē Health & Well-Being Richmond Hill\, 3866 Belfast Keller Road Room 101\, Richmond Hill\, GA\, 31324\, United States
CATEGORIES:Family Health,Fitness,Heart Health,Wellness
ATTACH;FMTTYPE=image/jpeg:https://behealth-app.com/wp-content/uploads/2022/12/iStock-1222252769-scaled.jpg
END:VEVENT
BEGIN:VEVENT
DTSTART;TZID=America/New_York:20240507T180000
DTEND;TZID=America/New_York:20240507T190000
DTSTAMP:20260420T165657
CREATED:20240423T180623Z
LAST-MODIFIED:20240423T180623Z
UID:10000376-1715104800-1715108400@behealth-app.com
SUMMARY:Restorative Yoga
DESCRIPTION:In this tranquil space\, we embark on a profound exploration of our energy centers and chakras\, unlocking the potential to release stored energy and promote a healthy work-life balance.  Through a carefully curated blend of gentle stretches and opening postures\, we create space for healing and restoration. Each movement is designed to encourage a profound sense of relaxation and release\, allowing tensions to melt away and energy to flow freely throughout the body.  Join Brooke in this Restorative Yoga class and experience the profound benefits of deep relaxation\, energy alignment\, and emotional balance. \nGet a discount! Buy a bundle of Be Health and Well-Being classes! For Heartwood residents\, we offer five classes for $60 and 10 classes for $100. For community members\, five classes for $75 and 10 classes for $130. Please contact the Be Health navigator at behealth@sjchs.org or 912-675-0524.
URL:https://behealth-app.com/event/restorative-yoga/
LOCATION:SJ/C Bē Health & Well-Being Richmond Hill\, 3866 Belfast Keller Road Room 101\, Richmond Hill\, GA\, 31324\, United States
CATEGORIES:Fitness,Heart Health,Wellness
ATTACH;FMTTYPE=image/jpeg:https://behealth-app.com/wp-content/uploads/2022/04/hopefilmphoto-QiYZCKJQMck-unsplash.jpg
END:VEVENT
BEGIN:VEVENT
DTSTART;TZID=America/New_York:20240521T180000
DTEND;TZID=America/New_York:20240521T190000
DTSTAMP:20260420T165657
CREATED:20240423T180623Z
LAST-MODIFIED:20240423T181145Z
UID:10000379-1716314400-1716318000@behealth-app.com
SUMMARY:Restorative Yoga
DESCRIPTION:In this tranquil space\, we embark on a profound exploration of our energy centers and chakras\, unlocking the potential to release stored energy and promote a healthy work-life balance.  Through a carefully curated blend of gentle stretches and opening postures\, we create space for healing and restoration. Each movement is designed to encourage a profound sense of relaxation and release\, allowing tensions to melt away and energy to flow freely throughout the body.  Join Brooke in this Restorative Yoga class and experience the profound benefits of deep relaxation\, energy alignment\, and emotional balance. \nGet a discount! Buy a bundle of Be Health and Well-Being classes! For Heartwood residents\, we offer five classes for $60 and 10 classes for $100. For community members\, five classes for $75 and 10 classes for $130. Please contact the Be Health navigator at behealth@sjchs.org or 912-675-0524.
URL:https://behealth-app.com/event/restorative-yoga-2024-05-21/
LOCATION:SJ/C Bē Health & Well-Being Richmond Hill\, 3866 Belfast Keller Road Room 101\, Richmond Hill\, GA\, 31324\, United States
CATEGORIES:Fitness,Heart Health,Wellness
ATTACH;FMTTYPE=image/jpeg:https://behealth-app.com/wp-content/uploads/2022/04/hopefilmphoto-QiYZCKJQMck-unsplash.jpg
END:VEVENT
END:VCALENDAR