BEGIN:VCALENDAR
VERSION:2.0
PRODID:-//Bē Dashboard - ECPv6.15.17.1//NONSGML v1.0//EN
CALSCALE:GREGORIAN
METHOD:PUBLISH
X-WR-CALNAME:Bē Dashboard
X-ORIGINAL-URL:https://behealth-app.com
X-WR-CALDESC:Events for Bē Dashboard
REFRESH-INTERVAL;VALUE=DURATION:PT1H
X-Robots-Tag:noindex
X-PUBLISHED-TTL:PT1H
BEGIN:VTIMEZONE
TZID:America/New_York
BEGIN:DAYLIGHT
TZOFFSETFROM:-0500
TZOFFSETTO:-0400
TZNAME:EDT
DTSTART:20230312T070000
END:DAYLIGHT
BEGIN:STANDARD
TZOFFSETFROM:-0400
TZOFFSETTO:-0500
TZNAME:EST
DTSTART:20231105T060000
END:STANDARD
BEGIN:DAYLIGHT
TZOFFSETFROM:-0500
TZOFFSETTO:-0400
TZNAME:EDT
DTSTART:20240310T070000
END:DAYLIGHT
BEGIN:STANDARD
TZOFFSETFROM:-0400
TZOFFSETTO:-0500
TZNAME:EST
DTSTART:20241103T060000
END:STANDARD
BEGIN:DAYLIGHT
TZOFFSETFROM:-0500
TZOFFSETTO:-0400
TZNAME:EDT
DTSTART:20250309T070000
END:DAYLIGHT
BEGIN:STANDARD
TZOFFSETFROM:-0400
TZOFFSETTO:-0500
TZNAME:EST
DTSTART:20251102T060000
END:STANDARD
END:VTIMEZONE
BEGIN:VEVENT
DTSTART;TZID=America/New_York:20240202T091500
DTEND;TZID=America/New_York:20240202T100000
DTSTAMP:20260420T223613
CREATED:20231226T131519Z
LAST-MODIFIED:20231226T133955Z
UID:10000292-1706865300-1706868000@behealth-app.com
SUMMARY:Flow Yoga
DESCRIPTION:Called “Flow” Yoga as the poses blend in practice\, a more dynamic style of class for students looking to grow their practice\, synchronized with breath\, creating your anchor as you move from pose to pose.  Excellent for your health\, not only keeping you active\, but also reducing stress and building strength outward and inward.  Warm up\, Sun Salutations\, stretching and balancing are part of every class.  Inner reflection and relaxation are used to close class. \nGet a discount! Buy a bundle of Be Health and Well-Being classes! For Heartwood residents\, we offer five classes for $60 and 10 classes for $100. For community members\, five classes for $75 and 10 classes for $130. Please contact the Be Health navigator at behealth@sjchs.org or 912-675-0524.
URL:https://behealth-app.com/event/flow-yoga-2024-02-02/
LOCATION:The Outfitters\, 35 Outfitters Park Drive\, Richmond Hill\, GA\, 31324\, United States
ATTACH;FMTTYPE=image/jpeg:https://behealth-app.com/wp-content/uploads/2022/04/elena-kloppenburg-erUC4fTtCuo-unsplash-scaled.jpg
END:VEVENT
BEGIN:VEVENT
DTSTART;TZID=America/New_York:20240205T163000
DTEND;TZID=America/New_York:20240205T171500
DTSTAMP:20260420T223613
CREATED:20231222T175428Z
LAST-MODIFIED:20231222T180514Z
UID:10000283-1707150600-1707153300@behealth-app.com
SUMMARY:Pound
DESCRIPTION:You become the music in an exhilarating full body workout that combines cardio and strength training. Designed for all fitness levels. \nGet a discount! Buy a bundle of Be Health and Well-Being classes! For Heartwood residents\, we offer five classes for $60 and 10 classes for $100. For community members\, five classes for $75 and 10 classes for $130. Please contact the Be Health navigator at behealth@sjchs.org or 912-675-0524.
URL:https://behealth-app.com/event/pound-2-2024-02-05/
LOCATION:The Outfitters\, 35 Outfitters Park Drive\, Richmond Hill\, GA\, 31324\, United States
ATTACH;FMTTYPE=image/png:https://behealth-app.com/wp-content/uploads/2023/09/Adult_POUND_new4-updated-1.png
END:VEVENT
BEGIN:VEVENT
DTSTART;TZID=America/New_York:20240205T181500
DTEND;TZID=America/New_York:20240205T190000
DTSTAMP:20260420T223613
CREATED:20231222T181532Z
LAST-MODIFIED:20231222T182959Z
UID:10000289-1707156900-1707159600@behealth-app.com
SUMMARY:Gentle Yoga
DESCRIPTION:A slower and more gentle practice of yoga at a comfortable pace\, allowing you to choose what works for you\, creating less strain on muscles and joints. A great practice by anyone regardless of age\, a perfect choice for students recovering from injuries\, pain or limited mobility. More emphasis is spent on warming up\, longer relaxation time\, breath work and meditation for a fully rounded experience. \nGet a discount! Buy a bundle of Be Health and Well-Being classes! For Heartwood residents\, we offer five classes for $60 and 10 classes for $100. For community members\, five classes for $75 and 10 classes for $130. Please contact the Be Health navigator at behealth@sjchs.org or 912-675-0524.
URL:https://behealth-app.com/event/gentle-yoga-2-2024-02-05/
LOCATION:The Outfitters\, 35 Outfitters Park Drive\, Richmond Hill\, GA\, 31324\, United States
ATTACH;FMTTYPE=image/jpeg:https://behealth-app.com/wp-content/uploads/2022/12/iStock-625675200-scaled.jpg
END:VEVENT
BEGIN:VEVENT
DTSTART;TZID=America/New_York:20240215T083000
DTEND;TZID=America/New_York:20240215T160000
DTSTAMP:20260420T223613
CREATED:20240104T211906Z
LAST-MODIFIED:20240108T180221Z
UID:10000353-1707985800-1708012800@behealth-app.com
SUMMARY:Bē Health Holiday Camp FUN
DESCRIPTION:Bē Health is offering a very unique\, fun\, and engaging holiday camp experience. The aim of our daily activities is to help children\, ages 5-12\, gain a better understanding of health and wellbeing through group Fitness\, Mindfulness and Nutrition FUN. Children will participate in Kid’s Yoga\, Mindfulness Activities & Trail walks\, Kid’s POUND\, and other holiday related activities\, including a nutritional section in preparation of an afternoon snack. The camps will be staffed by Dieticians\, Certified Fitness Trainers and Health Educators. \nThe daily cost is $35 per day/ per child.  Drop off starts at 8:30 a.m. at The Outfitters at Heartwood (35 Outfitters Park Drive\, Richmond Hill\, GA 31324) with pick up no later than 4 p.m. All campers should wear athletic shoes for both indoor and outdoor activities\, bring bug spray\, wear loose fitting/ comfortable clothing and pack a healthy lunch with a water bottle. \nPlease check your email after registration for a link to important paperwork that must be filled out to complete registration. 
URL:https://behealth-app.com/event/be-health-holiday-camp-fun-8/
LOCATION:The Outfitters\, 35 Outfitters Park Drive\, Richmond Hill\, GA\, 31324\, United States
CATEGORIES:Camps,Children,Heartwood Events
ATTACH;FMTTYPE=image/jpeg:https://behealth-app.com/wp-content/uploads/2023/10/kid-yoga-1.jpg
END:VEVENT
BEGIN:VEVENT
DTSTART;TZID=America/New_York:20240216T083000
DTEND;TZID=America/New_York:20240216T160000
DTSTAMP:20260420T223613
CREATED:20240104T212127Z
LAST-MODIFIED:20240105T203758Z
UID:10000354-1708072200-1708099200@behealth-app.com
SUMMARY:Bē Health Holiday Camp FUN
DESCRIPTION:Bē Health is offering a very unique\, fun\, and engaging holiday camp experience. The aim of our daily activities is to help children\, ages 5-12\, gain a better understanding of health and wellbeing through group Fitness\, Mindfulness and Nutrition FUN. Children will participate in Kid’s Yoga\, Mindfulness Activities & Trail walks\, Kid’s POUND\, and other holiday related activities\, including a nutritional section in preparation of an afternoon snack. The camps will be staffed by Dieticians\, Certified Fitness Trainers and Health Educators. \nThe daily cost is $35 per day/ per child.  Drop off starts at 8:30 a.m. at The Outfitters at Heartwood (35 Outfitters Park Drive\, Richmond Hill\, GA 31324) with pick up no later than 4 p.m. All campers should wear athletic shoes for both indoor and outdoor activities\, bring bug spray\, wear loose fitting/ comfortable clothing and pack a healthy lunch with a water bottle. \nPlease check your email after registration for a link to important paperwork that must be filled out to complete registration. 
URL:https://behealth-app.com/event/be-health-holiday-camp-fun-11/
LOCATION:The Outfitters\, 35 Outfitters Park Drive\, Richmond Hill\, GA\, 31324\, United States
CATEGORIES:Camps,Children,Heartwood Events
ATTACH;FMTTYPE=image/jpeg:https://behealth-app.com/wp-content/uploads/2023/10/kid-yoga.jpg
END:VEVENT
END:VCALENDAR