BEGIN:VCALENDAR
VERSION:2.0
PRODID:-//Bē Dashboard - ECPv6.15.17.1//NONSGML v1.0//EN
CALSCALE:GREGORIAN
METHOD:PUBLISH
X-ORIGINAL-URL:https://behealth-app.com
X-WR-CALDESC:Events for Bē Dashboard
REFRESH-INTERVAL;VALUE=DURATION:PT1H
X-Robots-Tag:noindex
X-PUBLISHED-TTL:PT1H
BEGIN:VTIMEZONE
TZID:America/New_York
BEGIN:DAYLIGHT
TZOFFSETFROM:-0500
TZOFFSETTO:-0400
TZNAME:EDT
DTSTART:20230312T070000
END:DAYLIGHT
BEGIN:STANDARD
TZOFFSETFROM:-0400
TZOFFSETTO:-0500
TZNAME:EST
DTSTART:20231105T060000
END:STANDARD
BEGIN:DAYLIGHT
TZOFFSETFROM:-0500
TZOFFSETTO:-0400
TZNAME:EDT
DTSTART:20240310T070000
END:DAYLIGHT
BEGIN:STANDARD
TZOFFSETFROM:-0400
TZOFFSETTO:-0500
TZNAME:EST
DTSTART:20241103T060000
END:STANDARD
BEGIN:DAYLIGHT
TZOFFSETFROM:-0500
TZOFFSETTO:-0400
TZNAME:EDT
DTSTART:20250309T070000
END:DAYLIGHT
BEGIN:STANDARD
TZOFFSETFROM:-0400
TZOFFSETTO:-0500
TZNAME:EST
DTSTART:20251102T060000
END:STANDARD
END:VTIMEZONE
BEGIN:VEVENT
DTSTART;TZID=America/New_York:20240112T091500
DTEND;TZID=America/New_York:20240112T100000
DTSTAMP:20260420T235938
CREATED:20231226T131519Z
LAST-MODIFIED:20240103T131923Z
UID:10000290-1705050900-1705053600@behealth-app.com
SUMMARY:Flow Yoga
DESCRIPTION:Called “Flow” Yoga as the poses blend in practice\, a more dynamic style of class for students looking to grow their practice\, synchronized with breath\, creating your anchor as you move from pose to pose.  Excellent for your health\, not only keeping you active\, but also reducing stress and building strength outward and inward.  Warm up\, Sun Salutations\, stretching and balancing are part of every class.  Inner reflection and relaxation are used to close class. \nGet a discount! Buy a bundle of Be Health and Well-Being classes! For Heartwood residents\, we offer five classes for $60 and 10 classes for $100. For community members\, five classes for $75 and 10 classes for $130. Please contact the Be Health navigator at behealth@sjchs.org or 912-675-0524.
URL:https://behealth-app.com/event/flow-yoga-2024-01-12/
LOCATION:The Outfitters\, 35 Outfitters Park Drive\, Richmond Hill\, GA\, 31324\, United States
CATEGORIES:Fitness
ATTACH;FMTTYPE=image/jpeg:https://behealth-app.com/wp-content/uploads/2022/04/elena-kloppenburg-erUC4fTtCuo-unsplash-scaled.jpg
END:VEVENT
BEGIN:VEVENT
DTSTART;TZID=America/New_York:20240115T181500
DTEND;TZID=America/New_York:20240115T190000
DTSTAMP:20260420T235938
CREATED:20231222T181532Z
LAST-MODIFIED:20240102T204058Z
UID:10000285-1705342500-1705345200@behealth-app.com
SUMMARY:Gentle Yoga
DESCRIPTION:A slower and more gentle practice of yoga at a comfortable pace\, allowing you to choose what works for you\, creating less strain on muscles and joints. A great practice by anyone regardless of age\, a perfect choice for students recovering from injuries\, pain or limited mobility. More emphasis is spent on warming up\, longer relaxation time\, breath work and meditation for a fully rounded experience. \nGet a discount! Buy a bundle of Be Health and Well-Being classes! For Heartwood residents\, we offer five classes for $60 and 10 classes for $100. For community members\, five classes for $75 and 10 classes for $130. Please contact the Be Health navigator at behealth@sjchs.org or 912-675-0524.
URL:https://behealth-app.com/event/gentle-yoga-2-2024-01-15/
LOCATION:The Outfitters\, 35 Outfitters Park Drive\, Richmond Hill\, GA\, 31324\, United States
CATEGORIES:Family Health
ATTACH;FMTTYPE=image/jpeg:https://behealth-app.com/wp-content/uploads/2022/12/iStock-625675200-scaled.jpg
END:VEVENT
BEGIN:VEVENT
DTSTART;TZID=America/New_York:20240120T110000
DTEND;TZID=America/New_York:20240120T114500
DTSTAMP:20260420T235938
CREATED:20240104T185243Z
LAST-MODIFIED:20240104T185243Z
UID:10000352-1705748400-1705751100@behealth-app.com
SUMMARY:Flow Yoga
DESCRIPTION:Called “Flow” Yoga as the poses blend in practice\, a more dynamic style of class for students looking to grow their practice\, synchronized with breath\, creating your anchor as you move from pose to pose. Excellent for your health\, not only keeping you active\, but also reducing stress and building strength outward and inward. Warm up\, Sun Salutations\, stretching and balancing are part of every class. Inner reflection and relaxation are used to close class.\n\nGet a discount! Buy a bundle of Be Health and Well-Being classes! For Heartwood residents\, we offer five classes for $60 and 10 classes for $100. For community members\, five classes for $75 and 10 classes for $130. Please contact the Be Health navigator at behealth@sjchs.org or 912-675-0524.
URL:https://behealth-app.com/event/flow-yoga/
LOCATION:The Outfitters\, 35 Outfitters Park Drive\, Richmond Hill\, GA\, 31324\, United States
CATEGORIES:Fitness,Heart Health,Heartwood Events,Strength,Wellness
ATTACH;FMTTYPE=image/jpeg:https://behealth-app.com/wp-content/uploads/2022/04/elena-kloppenburg-erUC4fTtCuo-unsplash-scaled.jpg
END:VEVENT
BEGIN:VEVENT
DTSTART;TZID=America/New_York:20240122T163000
DTEND;TZID=America/New_York:20240122T171500
DTSTAMP:20260420T235938
CREATED:20231222T175428Z
LAST-MODIFIED:20231222T180313Z
UID:10000282-1705941000-1705943700@behealth-app.com
SUMMARY:Pound
DESCRIPTION:You become the music in an exhilarating full body workout that combines cardio and strength training. Designed for all fitness levels. \nGet a discount! Buy a bundle of Be Health and Well-Being classes! For Heartwood residents\, we offer five classes for $60 and 10 classes for $100. For community members\, five classes for $75 and 10 classes for $130. Please contact the Be Health navigator at behealth@sjchs.org or 912-675-0524.
URL:https://behealth-app.com/event/pound-2-2024-01-22/
LOCATION:The Outfitters\, 35 Outfitters Park Drive\, Richmond Hill\, GA\, 31324\, United States
ATTACH;FMTTYPE=image/png:https://behealth-app.com/wp-content/uploads/2023/09/Adult_POUND_new4-updated-1.png
END:VEVENT
BEGIN:VEVENT
DTSTART;TZID=America/New_York:20240122T181500
DTEND;TZID=America/New_York:20240122T190000
DTSTAMP:20260420T235938
CREATED:20231222T181532Z
LAST-MODIFIED:20231222T182922Z
UID:10000287-1705947300-1705950000@behealth-app.com
SUMMARY:Gentle Yoga
DESCRIPTION:A slower and more gentle practice of yoga at a comfortable pace\, allowing you to choose what works for you\, creating less strain on muscles and joints. A great practice by anyone regardless of age\, a perfect choice for students recovering from injuries\, pain or limited mobility. More emphasis is spent on warming up\, longer relaxation time\, breath work and meditation for a fully rounded experience. \nGet a discount! Buy a bundle of Be Health and Well-Being classes! For Heartwood residents\, we offer five classes for $60 and 10 classes for $100. For community members\, five classes for $75 and 10 classes for $130. Please contact the Be Health navigator at behealth@sjchs.org or 912-675-0524.
URL:https://behealth-app.com/event/gentle-yoga-2-2024-01-22/
LOCATION:The Outfitters\, 35 Outfitters Park Drive\, Richmond Hill\, GA\, 31324\, United States
ATTACH;FMTTYPE=image/jpeg:https://behealth-app.com/wp-content/uploads/2022/12/iStock-625675200-scaled.jpg
END:VEVENT
END:VCALENDAR