BEGIN:VCALENDAR
VERSION:2.0
PRODID:-//Bē Dashboard - ECPv6.15.17.1//NONSGML v1.0//EN
CALSCALE:GREGORIAN
METHOD:PUBLISH
X-ORIGINAL-URL:https://behealth-app.com
X-WR-CALDESC:Events for Bē Dashboard
REFRESH-INTERVAL;VALUE=DURATION:PT1H
X-Robots-Tag:noindex
X-PUBLISHED-TTL:PT1H
BEGIN:VTIMEZONE
TZID:America/New_York
BEGIN:DAYLIGHT
TZOFFSETFROM:-0500
TZOFFSETTO:-0400
TZNAME:EDT
DTSTART:20220313T070000
END:DAYLIGHT
BEGIN:STANDARD
TZOFFSETFROM:-0400
TZOFFSETTO:-0500
TZNAME:EST
DTSTART:20221106T060000
END:STANDARD
BEGIN:DAYLIGHT
TZOFFSETFROM:-0500
TZOFFSETTO:-0400
TZNAME:EDT
DTSTART:20230312T070000
END:DAYLIGHT
BEGIN:STANDARD
TZOFFSETFROM:-0400
TZOFFSETTO:-0500
TZNAME:EST
DTSTART:20231105T060000
END:STANDARD
BEGIN:DAYLIGHT
TZOFFSETFROM:-0500
TZOFFSETTO:-0400
TZNAME:EDT
DTSTART:20240310T070000
END:DAYLIGHT
BEGIN:STANDARD
TZOFFSETFROM:-0400
TZOFFSETTO:-0500
TZNAME:EST
DTSTART:20241103T060000
END:STANDARD
END:VTIMEZONE
BEGIN:VEVENT
DTSTART;TZID=America/New_York:20230316T083000
DTEND;TZID=America/New_York:20230316T160000
DTSTAMP:20260422T171603
CREATED:20230213T151604Z
LAST-MODIFIED:20230314T172316Z
UID:10000299-1678955400-1678982400@behealth-app.com
SUMMARY:Bē Health Holiday Camp FUN
DESCRIPTION:Bē Health is offering a very unique\, fun\, and engaging holiday camp experience. The aim of our daily activities is to help children\, ages 5-12\, gain a better understanding of health and wellbeing through group Fitness\, Mindfulness and Nutrition FUN. Children will participate in Kid’s Yoga\, Mindfulness Activities & Trail walks\, Kid’s POUND\, and other holiday themed activities\, including a nutritional activity & snack. The camps will be staffed by Dieticians\, certified fitness trainers and Health Educators. \nPlease check your email after registration for a link to important paperwork that must be filled out to complete registration. 
URL:https://behealth-app.com/event/be-health-holiday-camp-fun/
LOCATION:The Outfitters\, 35 Outfitters Park Drive\, Richmond Hill\, GA\, 31324\, United States
CATEGORIES:Camps,Fitness,Nutrition,Wellness
ATTACH;FMTTYPE=image/jpeg:https://behealth-app.com/wp-content/uploads/2023/01/KidsRunning-scaled.jpg
END:VEVENT
BEGIN:VEVENT
DTSTART;TZID=America/New_York:20230317T083000
DTEND;TZID=America/New_York:20230317T160000
DTSTAMP:20260422T171603
CREATED:20230213T151757Z
LAST-MODIFIED:20230308T182746Z
UID:10000300-1679041800-1679068800@behealth-app.com
SUMMARY:Bē Health Holiday Camp FUN
DESCRIPTION:Bē Health is offering a very unique\, fun\, and engaging holiday camp experience. The aim of our daily activities is to help children\, ages 5-12\, gain a better understanding of health and wellbeing through group Fitness\, Mindfulness and Nutrition FUN. Children will participate in Kid’s Yoga\, Mindfulness Activities & Trail walks\, Kid’s POUND\, and other holiday themed activities\, including a nutritional activity & snack. The camps will be staffed by Dieticians\, certified fitness trainers and Health Educators. \nPlease check your email after registration for a link to important paperwork that must be filled out to complete registration. 
URL:https://behealth-app.com/event/be-health-holiday-camp-fun-2/
LOCATION:The Outfitters\, 35 Outfitters Park Drive\, Richmond Hill\, GA\, 31324\, United States
CATEGORIES:Camps,Fitness,Nutrition,Wellness
ATTACH;FMTTYPE=image/jpeg:https://behealth-app.com/wp-content/uploads/2023/01/KidsRunning-scaled.jpg
END:VEVENT
END:VCALENDAR