BEGIN:VCALENDAR
VERSION:2.0
PRODID:-//Bē Dashboard - ECPv6.15.17.1//NONSGML v1.0//EN
CALSCALE:GREGORIAN
METHOD:PUBLISH
X-WR-CALNAME:Bē Dashboard
X-ORIGINAL-URL:https://behealth-app.com
X-WR-CALDESC:Events for Bē Dashboard
REFRESH-INTERVAL;VALUE=DURATION:PT1H
X-Robots-Tag:noindex
X-PUBLISHED-TTL:PT1H
BEGIN:VTIMEZONE
TZID:America/New_York
BEGIN:DAYLIGHT
TZOFFSETFROM:-0500
TZOFFSETTO:-0400
TZNAME:EDT
DTSTART:20240310T070000
END:DAYLIGHT
BEGIN:STANDARD
TZOFFSETFROM:-0400
TZOFFSETTO:-0500
TZNAME:EST
DTSTART:20241103T060000
END:STANDARD
BEGIN:DAYLIGHT
TZOFFSETFROM:-0500
TZOFFSETTO:-0400
TZNAME:EDT
DTSTART:20250309T070000
END:DAYLIGHT
BEGIN:STANDARD
TZOFFSETFROM:-0400
TZOFFSETTO:-0500
TZNAME:EST
DTSTART:20251102T060000
END:STANDARD
BEGIN:DAYLIGHT
TZOFFSETFROM:-0500
TZOFFSETTO:-0400
TZNAME:EDT
DTSTART:20260308T070000
END:DAYLIGHT
BEGIN:STANDARD
TZOFFSETFROM:-0400
TZOFFSETTO:-0500
TZNAME:EST
DTSTART:20261101T060000
END:STANDARD
END:VTIMEZONE
BEGIN:VEVENT
DTSTART;TZID=America/New_York:20250902T090000
DTEND;TZID=America/New_York:20250902T094500
DTSTAMP:20260419T095850
CREATED:20250828T155106Z
LAST-MODIFIED:20250903T183114Z
UID:10000784-1756803600-1756806300@behealth-app.com
SUMMARY:Yoga-lates
DESCRIPTION:Yoga-lates is a powerful blend of Yoga and mat Pilates designed to build core strength\, mobility\, and balance. This class helps you develop a strong foundation – ideal for everyday movement and the perfect complement to any sport. Yoga-lates = the foundation of every athlete. \nGet a discount! Buy a bundle of Be Health and Well-Being classes! For Heartwood residents\, we offer five classes for $40 and 10 classes for $70. For community members\, five classes for $65 and 10 classes for $110. Please contact the Be Health navigator at behealth@sjchs.org or 912-675-0524.
URL:https://behealth-app.com/event/yoga-lates/
LOCATION:The Outfitters\, 35 Outfitters Park Drive\, Richmond Hill\, GA\, 31324\, United States
ATTACH;FMTTYPE=image/jpeg:https://behealth-app.com/wp-content/uploads/2022/12/iStock-914755592-scaled.jpg
END:VEVENT
END:VCALENDAR