BEGIN:VCALENDAR
VERSION:2.0
PRODID:-//Bē Dashboard - ECPv6.15.17.1//NONSGML v1.0//EN
CALSCALE:GREGORIAN
METHOD:PUBLISH
X-ORIGINAL-URL:https://behealth-app.com
X-WR-CALDESC:Events for Bē Dashboard
REFRESH-INTERVAL;VALUE=DURATION:PT1H
X-Robots-Tag:noindex
X-PUBLISHED-TTL:PT1H
BEGIN:VTIMEZONE
TZID:America/New_York
BEGIN:DAYLIGHT
TZOFFSETFROM:-0500
TZOFFSETTO:-0400
TZNAME:EDT
DTSTART:20240310T070000
END:DAYLIGHT
BEGIN:STANDARD
TZOFFSETFROM:-0400
TZOFFSETTO:-0500
TZNAME:EST
DTSTART:20241103T060000
END:STANDARD
BEGIN:DAYLIGHT
TZOFFSETFROM:-0500
TZOFFSETTO:-0400
TZNAME:EDT
DTSTART:20250309T070000
END:DAYLIGHT
BEGIN:STANDARD
TZOFFSETFROM:-0400
TZOFFSETTO:-0500
TZNAME:EST
DTSTART:20251102T060000
END:STANDARD
BEGIN:DAYLIGHT
TZOFFSETFROM:-0500
TZOFFSETTO:-0400
TZNAME:EDT
DTSTART:20260308T070000
END:DAYLIGHT
BEGIN:STANDARD
TZOFFSETFROM:-0400
TZOFFSETTO:-0500
TZNAME:EST
DTSTART:20261101T060000
END:STANDARD
END:VTIMEZONE
BEGIN:VEVENT
DTSTART;TZID=America/New_York:20250708T110000
DTEND;TZID=America/New_York:20250708T114500
DTSTAMP:20260419T130253
CREATED:20250527T174610Z
LAST-MODIFIED:20250624T145348Z
UID:10000496-1751972400-1751975100@behealth-app.com
SUMMARY:Power Yoga
DESCRIPTION:Our class blends the traditions of Hatha and Vinyasa into a dynamic fusion of strength\, endurance\, and mindful movement.  Experience the essence of Power Yoga as you move through a series of holding poses to build both physical strength and mental resilience\, while also seamlessly linking breath to movement to cultivate a sense of flow and presence on the mat. Through our dynamic sequences\, you also engage in cardio conditioning that elevates your heart rate\, boosts your metabolism\, and leaves you feeling energized and revitalized. Whether you are a seasoned yogi or new to the practice\, this class is designed to challenge and inspire you. Join us on the mat and embark on a journey to strength\, balance\, and mindfulness. \nGet a discount! Buy a bundle of Be Health and Well-Being classes! For Heartwood residents\, we offer five classes for $40 and 10 classes for $70. For community members\, five classes for $65 and 10 classes for $110. Please contact the Be Health navigator at behealth@sjchs.org or 912-675-0524. \n 
URL:https://behealth-app.com/event/power-yoga-2-2025-06-24-2025-07-08/
LOCATION:The Outfitters\, 35 Outfitters Park Drive\, Richmond Hill\, GA\, 31324\, United States
ATTACH;FMTTYPE=image/jpeg:https://behealth-app.com/wp-content/uploads/2022/12/iStock-914755592-scaled.jpg
END:VEVENT
END:VCALENDAR