BEGIN:VCALENDAR
VERSION:2.0
PRODID:-//Bē Dashboard - ECPv6.15.17.1//NONSGML v1.0//EN
CALSCALE:GREGORIAN
METHOD:PUBLISH
X-ORIGINAL-URL:https://behealth-app.com
X-WR-CALDESC:Events for Bē Dashboard
REFRESH-INTERVAL;VALUE=DURATION:PT1H
X-Robots-Tag:noindex
X-PUBLISHED-TTL:PT1H
BEGIN:VTIMEZONE
TZID:America/New_York
BEGIN:DAYLIGHT
TZOFFSETFROM:-0500
TZOFFSETTO:-0400
TZNAME:EDT
DTSTART:20230312T070000
END:DAYLIGHT
BEGIN:STANDARD
TZOFFSETFROM:-0400
TZOFFSETTO:-0500
TZNAME:EST
DTSTART:20231105T060000
END:STANDARD
BEGIN:DAYLIGHT
TZOFFSETFROM:-0500
TZOFFSETTO:-0400
TZNAME:EDT
DTSTART:20240310T070000
END:DAYLIGHT
BEGIN:STANDARD
TZOFFSETFROM:-0400
TZOFFSETTO:-0500
TZNAME:EST
DTSTART:20241103T060000
END:STANDARD
BEGIN:DAYLIGHT
TZOFFSETFROM:-0500
TZOFFSETTO:-0400
TZNAME:EDT
DTSTART:20250309T070000
END:DAYLIGHT
BEGIN:STANDARD
TZOFFSETFROM:-0400
TZOFFSETTO:-0500
TZNAME:EST
DTSTART:20251102T060000
END:STANDARD
END:VTIMEZONE
BEGIN:VEVENT
DTSTART;TZID=America/New_York:20241126T083000
DTEND;TZID=America/New_York:20241126T160000
DTSTAMP:20260420T040305
CREATED:20240926T140226Z
LAST-MODIFIED:20240926T141115Z
UID:10000336-1732609800-1732636800@behealth-app.com
SUMMARY:Bē Health Holiday Camp FUN
DESCRIPTION:Bē Health is offering a very unique\, fun\, and engaging summer camp experience. The aim of our daily activities is to help children\, ages 5-12\, gain a better understanding of health and wellbeing through group Fitness\, Mindfulness and Nutrition FUN (Fitness – Understanding-Nutrition). Children will participate in Kid’s Yoga\, Mindfulness Activities & Trail walks\, Kid’s POUND\, and other Holiday related activities\, including a nutritional section in preparation of an afternoon snack. The camps will be staffed by Dieticians\, Certified Fitness Trainers and Health Educators. \nThe daily cost is $35 per day/ per child.  Drop off is between 8:30 and 9 a.m. at The Outfitters at Heartwood (35 Outfitters Park Drive\, Richmond Hill\, GA 31324) with pick up no later than 4 p.m. All campers should wear athletic shoes for both indoor and outdoor activities\, bring bug spray\, wear loose fitting/ comfortable clothing and pack a healthy lunch with a water bottle. If you would like to register your child for multiple days please feel free to contact Bē Health @ 912-675-0524 for assistance. \nPlease check your email after registration for a link to important paperwork that must be filled out to complete registration.
URL:https://behealth-app.com/event/be-health-holiday-camp-fun-15/
LOCATION:The Outfitters\, 35 Outfitters Park Drive\, Richmond Hill\, GA\, 31324\, United States
CATEGORIES:Camps,Children,Fitness,Heart Health,Nutrition
ATTACH;FMTTYPE=image/jpeg:https://behealth-app.com/wp-content/uploads/2023/01/KidsRunning-scaled.jpg
END:VEVENT
BEGIN:VEVENT
DTSTART;TZID=America/New_York:20241126T173000
DTEND;TZID=America/New_York:20241126T181500
DTSTAMP:20260420T040305
CREATED:20241101T133751Z
LAST-MODIFIED:20241101T135357Z
UID:10000416-1732642200-1732644900@behealth-app.com
SUMMARY:Restorative Yoga
DESCRIPTION:In this tranquil space\, we embark on a profound exploration of our energy centers and chakras\, unlocking the potential to release stored energy and promote a healthy work-life balance.  Through a carefully curated blend of gentle stretches and opening postures\, we create space for healing and restoration. Each movement is designed to encourage a profound sense of relaxation and release\, allowing tensions to melt away and energy to flow freely throughout the body.  Join Brooke in this Restorative Yoga class and experience the profound benefits of deep relaxation\, energy alignment\, and emotional balance. \nGet a discount! Buy a bundle of Be Health and Well-Being classes! For Heartwood residents\, we offer five classes for $60 and 10 classes for $100. For community members\, five classes for $75 and 10 classes for $130. Please contact the Be Health navigator at behealth@sjchs.org or 912-675-0524.
URL:https://behealth-app.com/event/restorative-yoga-4-2024-11-26/
LOCATION:SJ/C Richmond Hill Campus at Heartwood\, 3866 Belfast Keller Road\, 3866 Belfast Keller Rd\, Richmond Hill\, GA\, 31324\, United States
CATEGORIES:Family Health,Fitness,Heart Health,Strength,Wellness
ATTACH;FMTTYPE=image/jpeg:https://behealth-app.com/wp-content/uploads/2022/12/iStock-625675200-scaled.jpg
END:VEVENT
END:VCALENDAR